BEGIN:VCALENDAR
VERSION:2.0
PRODID:-//tapahtumainfo.fi//NONSGML Samuell Live K-19//EN
METHOD:REQUEST
BEGIN:VEVENT
UID:20260424T073920-409802819-tapahtumainfo.fi
DTSTAMP:20260424T073920
DTSTART:20260424T220000Z
DTEND:20260424T020000Z
LOCATION:H5 Bar & Cellar
SUMMARY:Samuell Live K-19
DESCRIPTION:<html><head></head><body> <br /><br />  Visit event in our website: <a href='https://tapahtumainfo.fi/tapahtuma/2026/04/samuell-live-k-19/442171'>Tapahtumainfo.fi</a></body></html>
END:VEVENT
END:VCALENDAR
