BEGIN:VCALENDAR
VERSION:2.0
PRODID:-//tapahtumainfo.fi//NONSGML 16. Rendez-vous avec Brel//EN
METHOD:REQUEST
BEGIN:VEVENT
UID:20260421T031101-1137331874-tapahtumainfo.fi
DTSTAMP:20260421T031101
DTSTART:20260702T213000Z
DTEND:20260702T020000Z
LOCATION:Kouta-Sali
SUMMARY:16. Rendez-vous avec Brel
DESCRIPTION:<html><head></head><body> <br /><br />  Visit event in our website: <a href='https://tapahtumainfo.fi/tapahtuma/2026/07/16-rendez-vous-avec-brel/442173'>Tapahtumainfo.fi</a></body></html>
END:VEVENT
END:VCALENDAR
