BEGIN:VCALENDAR
VERSION:2.0
PRODID:-//tapahtumainfo.fi//NONSGML LOGOMON AITIOT: Kiitos Katri Helena - konsertti//EN
METHOD:REQUEST
BEGIN:VEVENT
UID:20260422T044314-767886655-tapahtumainfo.fi
DTSTAMP:20260422T044314
DTSTART:20270204T190000Z
DTEND:20270204T020000Z
LOCATION:Logomo
SUMMARY:LOGOMON AITIOT: Kiitos Katri Helena - konsertti
DESCRIPTION:<html><head></head><body><b>Kiitos Katri Helena -konserttikiertue 2027</b><br><br>Tervetuloa ainutlaatuiseen konserttielämykseen juhlistamaan Katri Helenan poikkeuksellista ja rakastettua uraa. Tämä lämminhenkinen kiertue on kunnianosoitus Katri Helenan tuotannolle – lauluihin, jotka ovat kulkeneet suomalaisten mukana vuosikymmenestä toiseen ja jättäneet pysyvän jäljen kansamme sydämiin.<br><br>Lavalle nousee upea kattaus kotimaisia tähtiartisteja: <b>Arja Koriseva, Anne Mattila, Antti Ketonen sekä Antti Railio</b>. He tulkitsevat Katri Helenan tunnetuimpia kappaleita omalla persoonallisella tyylillään – kunnioittaen alkuperäistä, mutta tuoden mukaan myös uusia sävyjä ja tunteita.<br><br>Konsertin musiikista vastaa kapellimestari <b>Mirka Dojanin</b> johtama orkesteri, joka luo illalle korkeatasoisen ja koskettavan äänimaiseman. Yhdessä artistien kanssa he vievät yleisön matkalle läpi unohtumattomien melodioiden, suurten tunteiden ja yhteisten muistojen.<br><br><b>Kiitos Katri Helena -kiertue</b> on elämys, jossa nostalgia ja nykyhetki kohtaavat. Illan aikana kuullaan klassikoita, jotka herättävät henkiin elämäsi tärkeät hetket ja muistuttavat musiikin voimasta yhdistää ihmisiä sukupolvien yli.<br>Tule mukaan jakamaan tämä erityinen ilta – laulamaan, muistamaan ja kiittämään!<br><br>Konsertin kesto n. 2h 15min (sis. väliaika) <br /><br />  Visit event in our website: <a href='https://tapahtumainfo.fi/tapahtuma/2027/02/logomon-aitiot-kiitos-katri-helena-konsertti/442179'>Tapahtumainfo.fi</a></body></html>
END:VEVENT
END:VCALENDAR
