BEGIN:VCALENDAR
VERSION:2.0
PRODID:-//tapahtumainfo.fi//NONSGML AMADEUS LIVE//EN
METHOD:REQUEST
BEGIN:VEVENT
UID:20260421T025559-858877519-tapahtumainfo.fi
DTSTAMP:20260421T025559
DTSTART:20260828T190000Z
DTEND:20260828T020000Z
LOCATION:Kuopion Musiikkikeskus Konserttisali
SUMMARY:AMADEUS LIVE
DESCRIPTION:<html><head></head><body>To 27.8. klo 18<br>Pe 28.8. klo 19<br><b>AMADEUS LIVE</b><br>Musiikki: Wolfgang Amadeus Mozart<br>Tekstitys suomeksi<br>Kesto 3h, sisältää väliajan.<br>Sallittu yli 12-vuotiaille<br><br>Kuopion kaupunginorkesteri<br>Eric Ochsner, kapellimestari<br>Kuopion sinfoniakuoro<br><br><i>”Lähes täydellinen elokuva.</i>” (USA Today)<br><br>Koe moninkertaisesti Oscar-palkittu klassikkoelokuva Amadeus valtavalta valkokankaalta samalla, kun Mozartin tunnetuimmat teokset esitetään livenä sinfoniaorkesterin ja kuoron voimin. Milos Formanin ohjaama Amadeus on elokuvallinen mestariteos: ylellinen aikakausikuvaus ja ylistys Wolfgang Amadeus Mozartin musiikille. Amadeus kertoo Wienin hovissa toimineen säveltäjä Antonio Salierin tarinan ja kateuden, joka kuluttaa häntä, kun hän huomaa, että jumalaiset musiikilliset lahjat, joita hän on koko elämänsä kaivannut, onkin annettu riettaalle ja ilkikuriselle nuorelle säveltäjälle, Mozartille. Elokuva on aistillinen nautinto sekä korville että silmille.<br><br>Järj. Kuopion kaupunginorkesteri<br>“AMADEUS” film licensed by THE SAUL ZAENTZ COMPANY<br>Amadeus LIVE is a production of Avex Classics International<br>Multi-Academy Award®-Winning Film<br> <br /><br />  Visit event in our website: <a href='https://tapahtumainfo.fi/tapahtuma/2026/08/amadeus-live/442186'>Tapahtumainfo.fi</a></body></html>
END:VEVENT
END:VCALENDAR
