BEGIN:VCALENDAR
VERSION:2.0
PRODID:-//tapahtumainfo.fi//NONSGML TI Kevätnäytös 2026//EN
METHOD:REQUEST
BEGIN:VEVENT
UID:20260424T144927-2057855830-tapahtumainfo.fi
DTSTAMP:20260424T144927
DTSTART:20260512T180000Z
DTEND:20260512T020000Z
LOCATION:Kaukametsän sali, Koskikatu 2-4
SUMMARY:TI Kevätnäytös 2026
DESCRIPTION:<html><head></head><body>Kajaani Dance - tanssin kevätnäytökset:<br><br>Tanssin kevätnäytös - sotkamolaiset tanssioppilaat esiintyvät pe 8.5.2026 klo 18 Sotkamon lukio-kirjaston tapahtuma-aukio, Akkoniementie 25<br>Liput:<br>8 €/peruslippu<br>4 €/lapset<br>Hinnat sis. palvelumaksut<br><br>Kajaani Dance - tanssin kevätnäytökset Kajaanissa 11.-14.5.2026 Kaukametsän sali, Kajaani<br>Ma 11.5. klo 18<br>Ti 12.5. klo 18<br>Ke 13.5. klo 18<br>To 14.5. klo 15<br><br>Liput:<br>13 €/peruslippu<br>7 €/lapset<br>Hinnat sis. palvelumaksut<br>--------------------<br>Esiintyvät ryhmät näkyy täältä:<br><a href="https://www.kajaanidance.fi/wp-content/uploads/2026/04/Esiintymisjarjestys-Kevatnaytos_202.docx.png">https://www.kajaanidance.fi/wp-content/uploads/2026/04/Esiintymisjarjestys-Kevatnaytos_202.docx.png</a><br>---------------------<br>KAIKUKORTTI käy vain Kajaani Infosta noudettaessa (ei Sotkamon tilaisuuteen)!<br>--------------------<br>LIPUNMYYNTI:<br>Kajaani Info (osoitteessa Pohjolankatu 13) kts. maksuvälineet ja aukioloajat: <a href="https://www.kajaani.fi/info">https://www.kajaani.fi/info</a><br><br>Varaukset hoitaa Lippupiste, puh. 0600 900 900 (2€/alk.min + mpm/pvm). Jonotuksesta peritään normaali puhelumaksu oman liittymäsopimuksen mukaisesti.<br><br>Varatut liput on lunastettava Kajaani Infosta tai Lippupisteen toimipaikoista 14 päivän kuluessa varauksesta.<br><br>Tilaisuuksiin ei ole erikseen ovimyyntiä, vaan liput ovat myynnissä verkossa tilaisuuksien alkuun asti niin kauan kuin lippuja riittää.<br><br>Lippuja myyvät myös Suomen muut Lippupisteen myyntipisteet ja Lippupisteen verkkokauppa osoitteessa<a href=" www.lippu.fi"> www.lippu.fi</a><br>----------------------<br>Kaukametsän salissa HUOMIO (koskee 11.-14.5. näytöksiä)!<br><br>Pyörätuolipaikat sijaitsevat rivien 1-6 molemmissa päädyissä. Näin ollen saattajapaikat otetaan heti ko. pyörätuolipaikan läheisyydestä.<br><br>Konsertin täyttyessä loput myymättä jääneet pyörätuolipaikat myydään irtotuoleina (näkyvät vapaina myynnissä).<br><br>Ravintola on avoinna väliajallisissa konserteissa tunti ennen konserttia sekä väliajalla. Konserttien väliaikatarjoiluista vastaa Peera Hotel Kajanus. Väliaikatarjoilut voi tilata ennakkoon <a href="https://www.hotelkajanus.fi/kaukametsa-valiaikatarjoilut/">lomakkeella.</a><br><br> <br /><br />  Visit event in our website: <a href='https://tapahtumainfo.fi/tapahtuma/2026/05/ti-kevatnaytos-2026/442191'>Tapahtumainfo.fi</a></body></html>
END:VEVENT
END:VCALENDAR
