BEGIN:VCALENDAR
VERSION:2.0
PRODID:-//tapahtumainfo.fi//NONSGML Teemu Roivainen & Energia//EN
METHOD:REQUEST
BEGIN:VEVENT
UID:20260422T191309-1314839981-tapahtumainfo.fi
DTSTAMP:20260422T191309
DTSTART:20260524T180000Z
DTEND:20260524T020000Z
LOCATION:Uittamo Paviljonki
SUMMARY:Teemu Roivainen & Energia
DESCRIPTION:<html><head></head><body> <br /><br />  Visit event in our website: <a href='https://tapahtumainfo.fi/tapahtuma/2026/05/teemu-roivainen-energia/442195'>Tapahtumainfo.fi</a></body></html>
END:VEVENT
END:VCALENDAR
