BEGIN:VCALENDAR
VERSION:2.0
PRODID:-//tapahtumainfo.fi//NONSGML Taikakuu//EN
METHOD:REQUEST
BEGIN:VEVENT
UID:20260423T125903-315895898-tapahtumainfo.fi
DTSTAMP:20260423T125903
DTSTART:20260607T180000Z
DTEND:20260607T020000Z
LOCATION:Uittamo Paviljonki
SUMMARY:Taikakuu
DESCRIPTION:<html><head></head><body> <br /><br />  Visit event in our website: <a href='https://tapahtumainfo.fi/tapahtuma/2026/06/taikakuu/442197'>Tapahtumainfo.fi</a></body></html>
END:VEVENT
END:VCALENDAR
