BEGIN:VCALENDAR
VERSION:2.0
PRODID:-//tapahtumainfo.fi//NONSGML Hurma//EN
METHOD:REQUEST
BEGIN:VEVENT
UID:20260423T054123-315748756-tapahtumainfo.fi
DTSTAMP:20260423T054123
DTSTART:20260628T180000Z
DTEND:20260628T020000Z
LOCATION:Uittamo Paviljonki
SUMMARY:Hurma
DESCRIPTION:<html><head></head><body> <br /><br />  Visit event in our website: <a href='https://tapahtumainfo.fi/tapahtuma/2026/06/hurma/442201'>Tapahtumainfo.fi</a></body></html>
END:VEVENT
END:VCALENDAR
