BEGIN:VCALENDAR
VERSION:2.0
PRODID:-//tapahtumainfo.fi//NONSGML Kanava//EN
METHOD:REQUEST
BEGIN:VEVENT
UID:20260424T112930-801965550-tapahtumainfo.fi
DTSTAMP:20260424T112930
DTSTART:20260705T180000Z
DTEND:20260705T020000Z
LOCATION:Uittamo Paviljonki
SUMMARY:Kanava
DESCRIPTION:<html><head></head><body> <br /><br />  Visit event in our website: <a href='https://tapahtumainfo.fi/tapahtuma/2026/07/kanava/442202'>Tapahtumainfo.fi</a></body></html>
END:VEVENT
END:VCALENDAR
