BEGIN:VCALENDAR
VERSION:2.0
PRODID:-//tapahtumainfo.fi//NONSGML Pirita Niemenmaa & MiSiO//EN
METHOD:REQUEST
BEGIN:VEVENT
UID:20260423T111055-1291743671-tapahtumainfo.fi
DTSTAMP:20260423T111055
DTSTART:20260719T180000Z
DTEND:20260719T020000Z
LOCATION:Uittamo Paviljonki
SUMMARY:Pirita Niemenmaa & MiSiO
DESCRIPTION:<html><head></head><body> <br /><br />  Visit event in our website: <a href='https://tapahtumainfo.fi/tapahtuma/2026/07/pirita-niemenmaa-misio/442204'>Tapahtumainfo.fi</a></body></html>
END:VEVENT
END:VCALENDAR
