BEGIN:VCALENDAR
VERSION:2.0
PRODID:-//tapahtumainfo.fi//NONSGML Weranta//EN
METHOD:REQUEST
BEGIN:VEVENT
UID:20260424T093249-300035507-tapahtumainfo.fi
DTSTAMP:20260424T093249
DTSTART:20260726T180000Z
DTEND:20260726T020000Z
LOCATION:Uittamo Paviljonki
SUMMARY:Weranta
DESCRIPTION:<html><head></head><body> <br /><br />  Visit event in our website: <a href='https://tapahtumainfo.fi/tapahtuma/2026/07/weranta/442205'>Tapahtumainfo.fi</a></body></html>
END:VEVENT
END:VCALENDAR
