BEGIN:VCALENDAR
VERSION:2.0
PRODID:-//tapahtumainfo.fi//NONSGML Oskar Lehtinen & Kajo//EN
METHOD:REQUEST
BEGIN:VEVENT
UID:20260426T034924-1917887094-tapahtumainfo.fi
DTSTAMP:20260426T034924
DTSTART:20260802T180000Z
DTEND:20260802T020000Z
LOCATION:Uittamo Paviljonki
SUMMARY:Oskar Lehtinen & Kajo
DESCRIPTION:<html><head></head><body> <br /><br />  Visit event in our website: <a href='https://tapahtumainfo.fi/tapahtuma/2026/08/oskar-lehtinen-kajo/442206'>Tapahtumainfo.fi</a></body></html>
END:VEVENT
END:VCALENDAR
