BEGIN:VCALENDAR
VERSION:2.0
PRODID:-//tapahtumainfo.fi//NONSGML Dave Lindholm & Pepe Ahlqvist: Walkin’ Blues-tour//EN
METHOD:REQUEST
BEGIN:VEVENT
UID:20260425T214052-538091386-tapahtumainfo.fi
DTSTAMP:20260425T214052
DTSTART:20261203T190000Z
DTEND:20261203T020000Z
LOCATION:Savoy-teatteri
SUMMARY:Dave Lindholm & Pepe Ahlqvist: Walkin’ Blues-tour
DESCRIPTION:<html><head></head><body><b>Dave Lindholm & Pepe Ahlqvist: WALKIN’ BLUES -kiertue</b><br><br>Dave Lindholmin ja Pepe Ahlqvistin ainutlaatuinen, ensimmäinen yhteinen konserttikiertue tuo lavalle kaksi kotimaisen bluesinlegendaa.<br>Ohjelmisto rakentuu kokonaisuudessaan bluesmusiikinympärille – luvassa on juurevaa soittoa ja vahvaa tulkintaa.<br><br>Dave Lindholm – kitara ja laulu<br>Pepe Ahlqvist – kitara, laulu ja huuliharppu<br><br>Kesto n. 2 h, sisältää väliajan<br> <br /><br />  Visit event in our website: <a href='https://tapahtumainfo.fi/tapahtuma/2026/12/dave-lindholm-pepe-ahlqvist-walkin-blues-tour/442212'>Tapahtumainfo.fi</a></body></html>
END:VEVENT
END:VCALENDAR
