BEGIN:VCALENDAR
VERSION:2.0
PRODID:-//tapahtumainfo.fi//NONSGML Itseen kirjoitettu//EN
METHOD:REQUEST
BEGIN:VEVENT
UID:20260423T025801-360965584-tapahtumainfo.fi
DTSTAMP:20260423T025801
DTSTART:20261112T180000Z
DTEND:20261112T020000Z
LOCATION:Joensuun kaupunginteatteri
SUMMARY:Itseen kirjoitettu
DESCRIPTION:<html><head></head><body><b>Vierailuesitys<br>Itseen kirjoitettu</b><br><br>Tiedätkö sinä, mistä olet kotoisin – ja mitä sinuun on tietämättäsi kirjoitettu? Millaiseen käsitykseen<br>itsestäsi ja mahdollisuuksistasi kasvoit? Ymmärtävätkö vanhempasi ammattiasi? Onko sinulla<br>ulkopuolisuuden kokemuksia “paremmissa piireissä”? Itseen kirjoitettu kertoo siitä, mitä seuraa, kun<br>työväen poika tekee luokkaloikan.<br><br>Isän kuoltua professori Didier Eribon palaa kotiin. 30 vuoden poissaolon jälkeen hänen täytyy kohdata<br>äitinsä sekä häpeänsä, jonka vuoksi hän lähti pikkukaupungista Pariisiin. Lapsuus oli näköalatonta<br>selviytymistä, nyt aikuisena hän menestyy puku päällä akateemisena vaikuttajana. Kummassakaan<br>maailmassa hän ei tunne oloaan luontevaksi.<br><br>Didier luuli tehneensä irtioton homofobian vuoksi. Äkkiä hän ymmärtää, mistä syvimmillään oli kyse.<br>Hänen oma häpeänsä olikin yhteiskunnallista – häpeää köyhyydestä, osattomuudesta ja<br>osaamattomuudesta.<br><br>Kuinka luokkajako vaikuttaa yksilön elämään ja hänen valintoihinsa? Mitä on rakenteellinen<br>eriarvoisuus? Esitys haastaa katsojan pohtimaan omaa asemaansa yhteiskunnan osana. Musiikki on<br>vahvasti läsnä, ja eri aikakausien laulut piirtävät kuvaa yksilöstä yhteisön osana eri aikakausina.<br>Itseen kirjoitettu perustuu Didier Eribonin teokseen Paluu Reimsiin, josta kirjailija Édouard Louis<br>kirjoitti:<br><i><br>"Se on yksi niistä teoksista, jotka voivat muuttaa elämän. Minun elämäni se muutti. Niin voi käydä<br>teillekin."</i><br><br><b>SUURI NÄYTTÄMÖ KESTO</b> n. 2 t 15 min, sisältäen väliajan<br><b>LIPUT</b> alkaen 38 e<br><b>VAIN 2 ESITYSTÄ</b> to 12.11. klo 18 ja pe 13.11. klo 14<br><br><b>Näyttämöllä</b> Sinikka Sokka, Miiko Toiviainen, Timo Torikka ja Maija Ruuskanen<br><b>Alkuperäisteos</b> Didier Eribonin teos Paluu Reimsiin (“Retour à Reims” © Librairie Arthème Fayard,<br>2009)<br><b>Suomennos</b> Timo Torikka<br><b>Dramatisointi </b>Timo Torikka ja Davide Giovanzana<br><b>Ohjaus </b>Davide Giovanzana<br><b>Musiikki </b>Maija Ruuskanen<br><b>Videosuunnittelu</b> Ilari Kallinen<br><b>Valosuunnittelu</b> Ville Virtanen<br><b>Lavastus- ja pukusuunnittelu</b> Tinde Lappalainen<br><b>Lavasterakennus</b> Damjan Krebl<br><b>Tuotantopäällikkö</b> Luc Gérardin<br><b>Tuotanto</b> Teatteri Metamorfoosi, yhteistyössä Tampereen Työväen Teatteri<br><br>Näytelmän oikeudet Nordic Drama Corner Esitys on luotu Uudet Klassikot -tuella Teatteri<br>Metamorfoosin toimintaa tukevat Taiteen edistämiskeskus ja Helsingin kaupunki <br /><br />  Visit event in our website: <a href='https://tapahtumainfo.fi/tapahtuma/2026/11/itseen-kirjoitettu/442213'>Tapahtumainfo.fi</a></body></html>
END:VEVENT
END:VCALENDAR
