BEGIN:VCALENDAR
VERSION:2.0
PRODID:-//tapahtumainfo.fi//NONSGML Wartburg-likat ja kartanonrouva//EN
METHOD:REQUEST
BEGIN:VEVENT
UID:20260422T032256-366569781-tapahtumainfo.fi
DTSTAMP:20260422T032256
DTSTART:20261106T183000Z
DTEND:20261106T020000Z
LOCATION:Joensuun kaupunginteatteri
SUMMARY:Wartburg-likat ja kartanonrouva
DESCRIPTION:<html><head></head><body><b>Yhteistuotanto<br>WARTBURG-LIKAT JA KARTANONROUVA<br>- erityinen teatteriseikkailu</b><br><br>Joensuu 1984. Joidenkin keväisten viikkojen ajan kaupungin kaduilla liikkui kaksi<br>maailmantähteä hotelli Kimmelistä vanhalle konservatoriolle ja takaisin päin.<br><br>Harva joensuulainen taisi tunnistaa, että silloin tällöin Hair-Anin kampaamossa istui Arja<br>Saijonmaa, Mikis Teodorakisin suuren maailmanturneen ylistetty laulaja ja Ruotsin ehkä<br>tunnetuin suomalainen. Toinen maailmantähdistä oli Vivica Bandler, pohjoismaiden<br>tunnetuin teatterinjohtaja, kartanonrouva ja erään muumihahmon esikuva.<br><br>Toisaalla Joensuussa, Noljakan vielä rakentamattomalla mäellä, nokkosten saartaman<br>keltaisen talon pihamaalla kaksi varatonta teatterintekijälikkaa käynnisteli tulipunaista<br>Wartburg-farmariaan ajaakseen vanhalle konservatoriolle. Tekeillä oli monologiteos<br>Kerikansan kronikat. Vivica Bandler ohjasi, Arja Saijonmaa näytteli.<br><br>Nyt 2026 karjalaislikat nähdään Pirkko Kurikan kirjoittamassa seikkailussa teatterihommissa<br>maailmantähtien kanssa. Kepeän viihdyttävä, sivistynyt ja maagisen realismin retki vie<br>vuoden 1984 todellisiin tapahtumiin ja nykyhetkeen sekä fiktioon pikkuisen kerikansan<br>kohtalosta. Wartburg-likat ja kartanonrouva on ensimmäinen osa trilogiasta, joka kertoo<br>Wartburg-likkojen erityisistä teatteriseikkailuista. "Mikä on hyvin kuviteltu, siitä tulee totta."<br><br>Teatteriseikkailun työryhmä on kiinnostava kokoelma kolmen eri sukupolven joensuulaisia<br>taiteentekijöitä. Lisäksi kaksi pääkaupunkilaista taiteilijaa täydentää pohjoiskarjalaista<br>esiintyjäjoukkoa.<br><br><b>Työryhmä </b>Raija-Sinikka Rantala, Pirkko Kurikka, Tellu Turkka, Tuire Hindikka, Laura Kaljunen,<br>Mari Kortelainen, Jonna Kuittinen, Nikolai Tiitinen ja Jukka Moskuvaara<br><br><b>PIENI NÄYTTÄMÖ</b><br>Kantaesitys ja ensi-ilta 28.10.2026<br><br><b>Yhteistyö</b> Joensuun Vapaa Teatteri ja Joensuun kaupunginteatteri<br><b>KESTO</b> n. 2 t 40 min, sisältäen väliajan<br>LIPUT alkaen 30 e perushinta, 28 e eläkeläinen, 16 e lapsi, opiskelija, työtön, varushenkilö ja<br>siviilipalvelusvelvollinen <br /><br />  Visit event in our website: <a href='https://tapahtumainfo.fi/tapahtuma/2026/11/wartburg-likat-ja-kartanonrouva/442219'>Tapahtumainfo.fi</a></body></html>
END:VEVENT
END:VCALENDAR
