BEGIN:VCALENDAR
VERSION:2.0
PRODID:-//tapahtumainfo.fi//NONSGML SOTURIT//EN
METHOD:REQUEST
BEGIN:VEVENT
UID:20260424T073019-1952924086-tapahtumainfo.fi
DTSTAMP:20260424T073019
DTSTART:20261127T183000Z
DTEND:20261127T020000Z
LOCATION:Joensuun kaupunginteatteri
SUMMARY:SOTURIT
DESCRIPTION:<html><head></head><body><b>Vierailuesitys<br>SOTURIT</b><br><br>SOTURIT on nykytanssiteos, jossa kolme tanssijaa jää sotureina taistelukentälle, jossa panssari kohtaa<br>pehmeyden. Kolmen tanssijan ryhmä luo hennon mutta hurjan maailman, joka haastaa<br>sukupuoliodotuksia ja kyseenalaistaa perinteiset ajatukset vallasta. Toiston ja uupumuksen kautta he<br>raivaavat tilaa yhteydelle ja herkkyydelle. Vahvuus saa uusia merkityksiä.<br><br>Vivahteikkaaseen ja mukaansatempaavaan äänimaailmaan sijoittuva SOTURIT on runollinen ja<br>kehollinen matka, joka tutkii feminiinisyyden, identiteetin ja toimijuuden kysymyksiä.<br>SOTURIT tarkastelee maskuliiniseksi koodatun soturin arkkityypin kautta kriittisesti sitä, mitä vahvuus<br>merkitsee nykypäivän maailmassa. Millaiset kehot saavat olla vahvoja? Kenellä on oikeus viedä tilaa?<br>Entä mitä tapahtuu, kun haavoittuvuudesta tuleekin eräänlaista vastarintaa?<br><br>Esityksen koreografian on tehnyt luxemburgilainen taiteilija Anne-Mareike Hess. SOTURIT perustuu<br>hänen omaan sooloteokseensa nimeltä WARRIOR, joka sai ensi-iltansa vuonna 2018 ja kiertää<br>edelleen aktiivisesti Euroopassa.<br><br><b>PIENI NÄYTTÄMÖ KESTO</b> noin 45 minuuttia, ei väliaikaa<br><b>IKÄSUOSITUS</b> +12<br><b>VAIN 1 ESITYS</b> pe 27.11. klo 18.30<br><b>LIPUT</b> alkaen 12-20 e<br><br>Alennettuun lipunhintaan ovat oikeutettuja lapset, ITAK:n jäsenet, opiskelijat, työttömät, eläkeläiset,<br>teatterialan ammattilaiset Temen jäsenkortilla tai Teatterikortilla. Varauduthan esittämään<br>alennukseen oikeuttavan todistuksen lipuntarkastajalle tarpeen tullen.<br><br><b>Näyttämöllä</b> Virva Torkko-Muñoz, Tuija Lappalainen ja Eevi Kinnunen <b>Koreografia</b> Anne-Mareike<br>Hess <b>Äänisuunnittelu</b> Marc Lohr Valosuunnittelu Tatu Vuori<br><b>Alkuperäinen valosuunnittelu</b> Brice Durand <b>Puvustus</b> Laura Enbuske alkuperäisen<br>pukusuunnittelijan Mélanie Planchardin työhön pohjautuen<br><b>Dramaturginen neuvonta</b> Heike Bröckerhoff <b>Alkuperäinen dramaturgia</b> Thomas<br>Schaupp <b>Kumppani </b>utopic productions<br><br>Teos on Tanssiteatteri Minimin ja Itä-Suomen tanssin aluekeskuksen yhteistuotanto.<br>Esitys on osa Yksin Sateessa – Joensuun nykytanssifestivaalin ohjelmistoa. Festivaali järjestetään<br>Joensuussa 26.–28.11.2026.<br><br>Festivaalin tuottaa Itä-Suomen tanssin aluekeskus.<br>Tutustu ohjelmistoon <a href="www.itak.fi" cr="true">www.itak.fi</a> <br /><br />  Visit event in our website: <a href='https://tapahtumainfo.fi/tapahtuma/2026/11/soturit/442225'>Tapahtumainfo.fi</a></body></html>
END:VEVENT
END:VCALENDAR
