BEGIN:VCALENDAR
VERSION:2.0
PRODID:-//tapahtumainfo.fi//NONSGML Miestä näkyvissä - ENSI-ILTA//EN
METHOD:REQUEST
BEGIN:VEVENT
UID:20260421T030104-79855422-tapahtumainfo.fi
DTSTAMP:20260421T030104
DTSTART:20260919T170000Z
DTEND:20260919T020000Z
LOCATION:Joensuun kaupunginteatteri
SUMMARY:Miestä näkyvissä - ENSI-ILTA
DESCRIPTION:<html><head></head><body><b>Miestä näkyvissä<br>- hyvän mielen erokomedia</b><br><br>Sirkku: <i>“Et lähe! Et jätä mua! Sä et tuu koskaan löytämään ketään sellasta kuin minä!”</i><br>Jalo:<i> “Se tässä ois vähän tarkotuskin!”<br></i><br>Oletko koskaan erotilanteessa hieman keulinut? Ei hätää, sattuuhan sitä!<br><br>Syksyn häpeilemätön naurupommi vie meidät Suomen Turkuun. Nelikymppisen Sirkun täydellinen elämä ajautuu karille, kun aviomies yllättäen jättää hänet. Sankarittaremme ajautuu näyttävään kriisiin, jossa lähetetään liikaa tekstiviestejä, hankitaan uusi tukka, sekoillaan “mahdolliset miehet” - treffeillä ja juodaan viskiä morsiuspukuun sonnustautuneena – ankkuri on irti!<br><br>Me on muuttunut äkisti minäksi, mutta kuka on pariton Sirkku? Ammattinäyttelijänä hän yrittää selviytyä arjesta hakemalla tukea erilaisista uransa varrelle sattuneista rooleista, mutta onko Bitch- Bosslady sittenkään paras valinta ex-anopin tapaamiseen? Auttaako ystävien sekaantuminen itkupotkuraivareihin?<br><br>Nopeatempoisen komedian yli 40 roolia tehdään neljän näyttelijän voimin. Mukaan mahtuu niin ystäviä, ex-appivanhempia, Parisuhde-pilarit-terapeutit, työkavereita kuin karmiva kavalkadi treffikumppaneitakin. Suosittelemme tätä energisoivaa ja puhdistavan naurun esitystä kaikille, jotka ovat joskus rakastaneet tai päästäneet itsensä ja toisensa irti.<br><br><i>“Luimme tekstin ääneen ja nauroimme kyyneleet silmissä. Tästä tulee hauskaa!”</i>, intoilee esityksen työryhmä.<br><b><br>Rooleissa </b>Maria Karhapää, Aino Karlstedt, Anna Ojanne ja Samu Stenberg<br><b>Dramatisointi </b>Marja Kankaan samannimisen kirjan pohjalta Satu Rasila<br><b>Ohjaus </b>Sarianne Tursas<br><b>Lavastussuunnittelu </b>Jonna Kuittinen<br><b>Valosuunnittelu </b>Mikko Pajanen<br><b>Äänisuunnittelu </b>Antti Männikkö Esitysoikeudet Agency North Oy<br><b><br>SUURI NÄYTTÄMÖ KESTO </b>noin 2 t, sisältäen väliajan<br><br><b>LIPUT </b>alkaen 34 e perushinta 32 e eläkeläinen 16 e lapsi, opiskelija, työtön, varushenkilö ja siviilipalvelusvelvollinen<br><br>Yksityisnäytäntö teatterissa 4.750 e (max 267 henkilöä, 18 e/henkilö)<br><br>Kiertuenäytäntö Pohjois-Karjalassa alkaen 3.000 e + matkakulut (max katsojamäärä noin 300 henkilöä), Pohjois-Karjalan teatteriyhdistyksen jäsenkuntien alueella toimiville alkaen 2.500 e + matkakulut. Varaukset ensisijaisesti sähköpostitse jaana.valkila@joensuunteatteri.fi tai soita 050 409 9971. Esitys on tilattavissa myös Pohjois-Karjalan ulkopuolelle tapauskohtaisin hinnoin.<br><br><b>Taiteilijatapaaminen</b> la 19.9. klo 16–16.30 Tornikabinetissa, näytelmäkirjailija Pirkko Kurikan haastateltavana teatterinjohtaja, ohjaaja Sarianne Tursas ja käsikirjoittaja Marja Kangas<br><br><b>Joensuun Taiteilijaseuran</b> ja Taidelainaamon Haaksirikko-näyttely suuren näyttämön yleisölämpiössä esitysten aikana 19.9.-31.10.2026, vapaa pääsy.<br> <br /><br />  Visit event in our website: <a href='https://tapahtumainfo.fi/tapahtuma/2026/09/miesta-nakyvissa-ensi-ilta/442226'>Tapahtumainfo.fi</a></body></html>
END:VEVENT
END:VCALENDAR
