BEGIN:VCALENDAR
VERSION:2.0
PRODID:-//tapahtumainfo.fi//NONSGML En värld utan vuxna (SVE)//EN
METHOD:REQUEST
BEGIN:VEVENT
UID:20260422T221144-285083236-tapahtumainfo.fi
DTSTAMP:20260422T221144
DTSTART:20270219T100000Z
DTEND:20270219T020000Z
LOCATION:Lillklobb
SUMMARY:En värld utan vuxna (SVE)
DESCRIPTION:<html><head></head><body> <br /><br />  Visit event in our website: <a href='https://tapahtumainfo.fi/tapahtuma/2027/02/en-varld-utan-vuxna-sve/442250'>Tapahtumainfo.fi</a></body></html>
END:VEVENT
END:VCALENDAR
