BEGIN:VCALENDAR
VERSION:2.0
PRODID:-//tapahtumainfo.fi//NONSGML En värld utan vuxna (SVE)//EN
METHOD:REQUEST
BEGIN:VEVENT
UID:20260421T072012-1395525285-tapahtumainfo.fi
DTSTAMP:20260421T072012
DTSTART:20270330T100000Z
DTEND:20270330T020000Z
LOCATION:Lillklobb
SUMMARY:En värld utan vuxna (SVE)
DESCRIPTION:<html><head></head><body> <br /><br />  Visit event in our website: <a href='https://tapahtumainfo.fi/tapahtuma/2027/03/en-varld-utan-vuxna-sve/442266'>Tapahtumainfo.fi</a></body></html>
END:VEVENT
END:VCALENDAR
