BEGIN:VCALENDAR
VERSION:2.0
PRODID:-//tapahtumainfo.fi//NONSGML En värld utan vuxna (SVE)//EN
METHOD:REQUEST
BEGIN:VEVENT
UID:20260421T072021-1023115803-tapahtumainfo.fi
DTSTAMP:20260421T072021
DTSTART:20270401T100000Z
DTEND:20270401T020000Z
LOCATION:Lillklobb
SUMMARY:En värld utan vuxna (SVE)
DESCRIPTION:<html><head></head><body> <br /><br />  Visit event in our website: <a href='https://tapahtumainfo.fi/tapahtuma/2027/04/en-varld-utan-vuxna-sve/442268'>Tapahtumainfo.fi</a></body></html>
END:VEVENT
END:VCALENDAR
