BEGIN:VCALENDAR
VERSION:2.0
PRODID:-//tapahtumainfo.fi//NONSGML En värld utan vuxna (SVE)//EN
METHOD:REQUEST
BEGIN:VEVENT
UID:20260421T054547-1689862164-tapahtumainfo.fi
DTSTAMP:20260421T054547
DTSTART:20270410T130000Z
DTEND:20270410T020000Z
LOCATION:Lillklobb
SUMMARY:En värld utan vuxna (SVE)
DESCRIPTION:<html><head></head><body> <br /><br />  Visit event in our website: <a href='https://tapahtumainfo.fi/tapahtuma/2027/04/en-varld-utan-vuxna-sve/442275'>Tapahtumainfo.fi</a></body></html>
END:VEVENT
END:VCALENDAR
