BEGIN:VCALENDAR
VERSION:2.0
PRODID:-//tapahtumainfo.fi//NONSGML Niko Kivelä - SANANVAPAUS K-16//EN
METHOD:REQUEST
BEGIN:VEVENT
UID:20260422T022626-690237590-tapahtumainfo.fi
DTSTAMP:20260422T022626
DTSTART:20261107T190000Z
DTEND:20261107T020000Z
LOCATION:Kuusankoskitalo, Kuusaasali
SUMMARY:Niko Kivelä - SANANVAPAUS K-16
DESCRIPTION:<html><head></head><body><b>Niko Kivelä - SANANVAPAUS<br><br>Niko Kivelä lähtee uransa suurimmalle stand up -kiertueelle syksyllä 2026 ja kiertue jatkuu aina keväälle 2027. Ennakkoluuloton esitys käsittelee sananvapautta.</b><br><br>Terävä, kärkäs ja nopea Kivelä tarkastelee aihetta ravistellen ja pakottaen yleisönsä näkemään asiat täysin uudesta näkökulmasta. Illan aikana ainoastaan katsoja on turvassa. Tule viettämään armottoman hauskaa iltaa, missä tärkeintä on nauru, yhdessäolo ja sananvapaus. Tervetuloa!<br><br>Esityksen kesto n. 2h sis. väliajan | K-16/K-18 | Liput alk 34,50 € + tilausmaksu (alk. 1,50€ + 0,65% tilauksesta) <br /><br />  Visit event in our website: <a href='https://tapahtumainfo.fi/tapahtuma/2026/11/niko-kivela-sananvapaus-k-16/442293'>Tapahtumainfo.fi</a></body></html>
END:VEVENT
END:VCALENDAR
