BEGIN:VCALENDAR
VERSION:2.0
PRODID:-//tapahtumainfo.fi//NONSGML Neiti Marple ja tuijottava katse//EN
METHOD:REQUEST
BEGIN:VEVENT
UID:20260423T010515-1882644588-tapahtumainfo.fi
DTSTAMP:20260423T010515
DTSTART:20270122T180000Z
DTEND:20270122T020000Z
LOCATION:Joensuun kaupunginteatteri
SUMMARY:Neiti Marple ja tuijottava katse
DESCRIPTION:<html><head></head><body><b>Neiti Marple ja tuijottava katse<br>- murhamysteeri maalaiskylässä</b><br><br>Agatha Christien dekkareiden suosikkihahmo neiti Marple ratkoo jälleen kerran jännittävää arvoitusta.<br>Kerrankin Neiti Marplen kotikylässä tapahtuu jotakin! Kylään muuttanut filmitähti Marina Gregg<br>järjestää cocktail-kutsut. Valitettavasti neiti Marple ei itse pääse paikalle, sillä hän on nyrjäyttänyt<br>nilkkansa. Juhlat ovat vasta alussa, kun yksi vieraista menettää henkensä juotuaan myrkytetyn<br>cocktailin. Mutta kuka haluaisi murhata harmittoman Heather Leighin? Oliko myrkky tarkoitettu<br>filmitähdelle?<br><br>Murhaa saapuu tutkimaan Scotland Yardin ylikomisario, neiti Marplen nuori ystävä Dermot<br>Craddock. Tapaus on hankala, sillä kuulusteluissa kaikki tuntuvat muistavan juhlien tapahtumat eri<br>tavoin. Nyrjähtänyt nilkka voi hidastaa Neiti Marplen liikkumista, mutta ei ajattelua. Tarvitaan hänen<br>viisauttaan ja terävää havaintokykyään ennen kuin tapaus ratkeaa.<br>Rachel Wagstaffin dramaturgia yhdistää hurmaavalla tavalla tihenevää jännitystä, huumoria ja<br>koskettavaa draamaa.<br><br>ROOLEISSA Anna Ojanne, Otto Henriksson Maria Karhapää, Aino Karlstedt, Regina Launivuo, Mikko<br>Liimatainen, Anni Porspakka (vierailija), Petteri Rantatalo, Samu Stenberg, Jaakko Tohkanen, SuviMaaria Virta ja Minna Maaria Virtanen.<br><br>ALKUPERÄISTEOS The Mirror Crack'd by Agatha Christie<br>DRAMATISOINTI Rachel Wagstaff<br>SUOMENNOS Juho Gröndahl<br>OHJAUS Iiris Rannio, vierailija<br>ENSI-ILTA 7.11.2026<br>Esitysoikeudet Nordic Drama Corner<br>SUURI NÄYTTÄMÖ<br>KESTO n. 2 t 40 min, sisältäen väliajan<br><br>LIPUT alkaen 34 e perushinta 32 e eläkeläinen 16 e lapsi, opiskelija, työtön, varushenkilö ja<br>siviilipalvelusvelvollinen Yksityisnäytäntö teatterissa 4.750 e (max 267 henkilöä, 18 e/henkilö)<br>Taiteilijatapaaminen la 7.11. klo 16-16.30 Tornikabinetissa, näytelmäkirjailija Pirkko Kurikan<br>haastateltavana vieraileva ohjaaja Iiris Rannio ja lavastussuunnittelija Kaisu Koponen, vapaa pääsy.<br><br>Joensuun Taiteilijaseuran ja kuvataiteilija Tuija Hirvonen-Puhakan Katseen alla -näyttely suuren näyttämön yleisölämpiössä esitysten aikana 7.11.2026-13.2.2027, vapaa pääsy.<br><br>The Mirror Crack’d © 2016, 2022 Agatha Christie Limited. All rights reserved. Adapted from The Mirror<br>Crack’d From Side to Side © 1962 Agatha Christie Limited AGATHA CHRISTIE, MARPLE, the Agatha<br>Christie Signature and the AC Monogram Logo are registered trademarks of Agatha Christie Limited in<br>the UK and elsewhere. All rights reserved. <br /><br />  Visit event in our website: <a href='https://tapahtumainfo.fi/tapahtuma/2027/01/neiti-marple-ja-tuijottava-katse/442338'>Tapahtumainfo.fi</a></body></html>
END:VEVENT
END:VCALENDAR
