BEGIN:VCALENDAR
VERSION:2.0
PRODID:-//tapahtumainfo.fi//NONSGML Väylä//EN
METHOD:REQUEST
BEGIN:VEVENT
UID:20260426T050950-288609676-tapahtumainfo.fi
DTSTAMP:20260426T050950
DTSTART:20261001T180000Z
DTEND:20261001T020000Z
LOCATION:Joensuun kaupunginteatteri
SUMMARY:Väylä
DESCRIPTION:<html><head></head><body><b>Vierailuesitys<br>VÄYLÄ</b><br><br>Lapin sota on alkamassa. Nuori tyttö kuljettaa lehmiä turvaan Ruotsin puolelle. Pakolaisvirrassa<br>juhlivat kaaos ja kohtuuttomuus. Vaellus tekee luonnonluomat tasavertaiseksi – niin kansat, ihmiset<br>kuin eläimetkin. Samalla se on lupaus aikuiseksi tulemisesta, uudesta identiteetistä, matkasta sinne,<br>missä on toisenlaista. Kaikessa kukkii murre, mustasta valkeaan leikkaava kieli, sen alla kadonneen<br>äidin etsintä.<br><br>Mikko Roihan dramatisoima ja ohjaama Väylä jatkaa Ei kertonut katuvansa -produktiossa<br>käynnistynyttä sarjaa, jossa sotien aiheuttamia olosuhteita käsitellään naisten<br>näkökulmasta. Näyttämöllä nähdään sukupolvensa merkittävimpiin tekijöihin kuuluva, juuri Olavi<br>Veistäjä-palkittu näyttelijä Ella Mettänen.<br><br><i>”Ohjaaja Mikko Roihalla on taito saada kollektiiviset traumat hengittämään näyttämöllä<br>hienovaraisesti niin, että jotain avautuu katsojassa… Tulkinnan rytmi on aukoton, ja Mettäsellä riittää<br>ilmaisukeinoja naulitsemaan katsojan mielenkiinto kahden tunnin ajaksi. Roolityö on kuluvan<br>teatterikauden vaikuttavin.”</i> - Nina Lahtinen, Aamulehti<br><br><i>”Väylä ravistaa, ottaa kädestä ja lohduttaa.”</i> - Kirsikka Moring<br><br>SUURI NÄYTTÄMÖ<br>KESTO n. 2 t, sisältäen väliajan<br>LIPUT alkaen 38 e<br>VAIN 2 ESITYSTÄ to 1.10. klo 18 ja pe 2.10. klo 12<br><br>NÄYTTÄMÖLLÄ Ella Mettänen<br>ALKUPERÄISTEOS Rosa Liksom<br>OHJAUS, DRAMATISOINTI JA LAVASTUS Mikko Roiha<br>ÄÄNISUUNNITTELU Jani Rapo<br>PUKUSUUNNITTELU JA TUOTANTOASSISTENTTI Rosa-Maria Perä VALOKUVAUS JA LAVASTUKSEN<br>TOTEUTUS Juho Uusitalo<br><br>TUOTANTO Vapaa Teatteri, Teatteri Jurkka, Lahden Kaupunginteatteri ja Tampereen Työväen Teatteri<br>Dramatisoinnin tekijänoikeuksia valvoo Agency North <br /><br />  Visit event in our website: <a href='https://tapahtumainfo.fi/tapahtuma/2026/10/vayla/442345'>Tapahtumainfo.fi</a></body></html>
END:VEVENT
END:VCALENDAR
