BEGIN:VCALENDAR
VERSION:2.0
PRODID:-//tapahtumainfo.fi//NONSGML The Future Was Today//EN
METHOD:REQUEST
BEGIN:VEVENT
UID:20260424T155905-2087895743-tapahtumainfo.fi
DTSTAMP:20260424T155905
DTSTART:20260903T193000Z
DTEND:20260903T020000Z
LOCATION:Savoy-teatteri
SUMMARY:The Future Was Today
DESCRIPTION:<html><head></head><body><div class="ck-content" data-wrapper="true" dir="ltr">  <span><b>Savoy WORLD</b></span><b><br><span>The Future Was Today -   Elokuvallinen tangoelämys</span></b></div><br>Argentiinalaisen tangon unohdettu vallankumous palaa Savoy-teatteriin<br><br>Kun puhutaan tangon uudistajista, Astor Piazzollan nimi nousee usein ensimmäisenä esiin. Samaan aikaan 1950- ja 60-lukujen Buenos Airesissa vaikutti kuitenkin toinenkin visionääri, Eduardo Rovira, joka vei tangon perinteitä kohti modernia taidemusiikkia ja avantgardea.<br><br>Roviran perinnön elvyttämiselle omistautunut, viimeksi helmikuussa 2025 Savoyssa ihastuttanut <b>SONICO</b>-yhtye palaa nyt Helsinkiin uuden <i>The Future Was Today</i> -projektinsa kanssa, juhlistaen näin säveltäjän satavuotista historiaa. Esityksen musiikki perustuu vuosien arkistotyöhön, jonka avulla Roviran kerran kadonneet teokset on herätetty uudelleen henkiin.<br><i><br>The Future Was Today</i> on moniaistinen elokuvallinen elämys, jossa SONICO:n taiturimainen soitto kietoutuu yhteen lumoavan visuaalisen maailman kanssa. Esitys laajentaa perinteisen konsertin rajoja: musiikki, valaistus, videotaide, Roviran aikaisista valokuvista kootut montaasit sekä kerronnalliset monologit luovat yhdessä tarinan, joka kuljettaa kuulijan läpi argentiinalaisten kaupunkimaisemien, tunteiden ja tangon historian kerrostumien.<br><br>Vuonna 2015 perustettu SONICO on noussut kansainväliseen suosioon tuomalla esiin tangon monipuolisuutta, joka on usein jäänyt tunnetuimpien hittien varjoon. Yhtye on esiintynyt maailman arvostetuimmilla lavoilla, kuten Buenos Airesin legendaarisessa Teatro Colónissa, ja heidän työtään on kiitetty muun muassa Rolling Stone- ja Gramophone-lehdissä. Esityksessä kuullaan Roviran teosten lisäksi harvoin esitettyjä helmiä muilta aikakauden tangosäveltäjiltä, kuten Osvaldo Berlingieriltä, Alberto Caracciololta ja toki myös itseltään Piazzollalta.<br><br>Ilta tarjoaa harvinaisen mahdollisuuden kuulla "uutta tangoa" sellaisena kuin se on alkuaan tarkoitettu: täynnä energiaa, rohkeita rytmejä ja ennakkoluulotonta muusikkoutta.  Esitys on suunnattu kaikille, jotka arvostavat tangon intohimoa, visuaalista tarinankerrontaa ja historian löytöretkiä.<i> The Future Was Today</i> osoittaa, että se tulevaisuus, jota Eduardo Rovira visioi musiikillaan vuosikymmeniä sitten, on täällä juuri nyt.<br><br>Lysandre Donoso – bandoneon<br>Stephen Meyer – viulu<br>Alejandro Schwarz – kitara<br>Ariel Eberstein – kontrabasso<br>Ivo De Greef – piano<br><br>Jean Baptiste De Vooght – valosuunnittelu<br>Ramiro Antico – videosuunnittelu<br>Kaloian Santos Cabrera – valokuvamontaasit<br>Emilio Laquidara – graafinen suunnittelu<br><br>Kesto n.  1h 20min, ei väliaikaa<br><br>Permanto K-18 anniskelualue. Parveke ikärajaton ei anniskelua.<br>Tuotanto: Savoy-teatteri<a href="Tuotanto: Savoy-teatteri https://www.savoyteatteri.fi"><br>https://www.savoyteatteri.fi</a><br><br>Savoy-teatterin asiakkaille majoitukset Hotel Havenissa -30 % alennuksella päivän joustavasta hinnasta.<br>ETUKOODI: SAVOY<br><a href="https://be.synxis.com/?chain=10237&hotel=35617&level=hotel&locale=fi-FI&src=hotelbe&promo=SAVOY&adult=2" cr="true">Varaa majoitus tästä</a> <br /><br />  Visit event in our website: <a href='https://tapahtumainfo.fi/tapahtuma/2026/09/the-future-was-today/442348'>Tapahtumainfo.fi</a></body></html>
END:VEVENT
END:VCALENDAR
