BEGIN:VCALENDAR
VERSION:2.0
PRODID:-//tapahtumainfo.fi//NONSGML Anonyma Korister -musikal//EN
METHOD:REQUEST
BEGIN:VEVENT
UID:20260421T083542-1808925290-tapahtumainfo.fi
DTSTAMP:20260421T083542
DTSTART:20261108T180000Z
DTEND:20261108T020000Z
LOCATION:Aleksanterin teatteri
SUMMARY:Anonyma Korister -musikal
DESCRIPTION:<html><head></head><body>En varm och rolig splitterny musikal om en kör där det finns plats för drömmar och dramatik. I musikalen hör vi nya låtar, skrivna av kapellmästaren Martin Segerstråle och musikalartisten Josefin Silén. På scenen står kören Let Us Be Frank.<br>Föreställningen är på svenska. Köp dina biljetter nu!<br><br>Lämmin ja hauska uusi musikaali kuorosta, josta ei puutu dramaattisia käänteitä ja jossa unelmille on vielä tilaa. Musikaalissa kuullaan täysin uusia lauluja, joiden takana ovat kapellimestari Martin Segerstråle ja musikaaliartisti Josefin Silén. Lavalla nähdään kuoro Let Us Be Frank.<br>Esitys on ruotsiksi. Nappaa omat lippusi nyt!<br><br>Kesto 70 min, ei väliaikaa.<br><br>Liput: 30 / 25 € <br /><br />  Visit event in our website: <a href='https://tapahtumainfo.fi/tapahtuma/2026/11/anonyma-korister-musikal/442349'>Tapahtumainfo.fi</a></body></html>
END:VEVENT
END:VCALENDAR
