BEGIN:VCALENDAR
VERSION:2.0
PRODID:-//tapahtumainfo.fi//NONSGML Beat Show - Heat Beat Repeat//EN
METHOD:REQUEST
BEGIN:VEVENT
UID:20260421T044543-205801018-tapahtumainfo.fi
DTSTAMP:20260421T044543
DTSTART:20260505T180000Z
DTEND:20260505T020000Z
LOCATION:LOGOMO-sali
SUMMARY:Beat Show - Heat Beat Repeat
DESCRIPTION:<html><head></head><body>Beat Dance Company ylpeänä esittää Heat Beat Repeat.<br>Kevätkauden päättävä Beat Show tanssitaan tiistaina 5.5.2026 klo 18:00 Logomossa. Luvassa on kesätunnelmaa, iloa ja sykettä, kun Beat Dance Companyn tanssijat tuovat lavalle kauden aikana harjoitellut energiset näytösohjelmat.<br><br>Tervetuloa nauttimaan esityksistä, juhlistamaan kevätkauden päätöstä ja virittäytymään kesän tunnelmaan.<br>Alle 4-vuotiaiden lasten liput kustantavat 1,60€. Nämä liput ovat ainoastaan saatavilla lippu.fi fyysisiltä myyntipisteiltä. <br /><br />  Visit event in our website: <a href='https://tapahtumainfo.fi/tapahtuma/2026/05/beat-show-heat-beat-repeat/442355'>Tapahtumainfo.fi</a></body></html>
END:VEVENT
END:VCALENDAR
