BEGIN:VCALENDAR
VERSION:2.0
PRODID:-//tapahtumainfo.fi//NONSGML Maaradan SM finaali//EN
METHOD:REQUEST
BEGIN:VEVENT
UID:20260424T112336-1774087452-tapahtumainfo.fi
DTSTAMP:20260424T112336
DTSTART:20260606T100000Z
DTEND:20260606T020000Z
LOCATION:Teivon Ravikeskus
SUMMARY:Maaradan SM finaali
DESCRIPTION:<html><head></head><body><b>Maaradan SM-finaali & Flat Track Suomen Cup</b><br><br>Aika ja paikka: lauantai 6.6.2026, Teivon Ravikeskus, Tampere<br><br>Hämeen Moottorikerho ry järjestää maaradan SM-finaalin Teivon pitkällä ja nopealla raviradalla. Tapahtumassa mukana myös Flat Track Suomen Cup ja värikkäänä lisänä Classic kilpakoneiden lähdöt. Teivon Ravikeskus tarjoaa kilpailulle mainiot puitteet, hyvät katsomot sekä kattavat ravintolapalvelut. Kilpailun osallistujatiedot päivittyvät lähempänä tapahtumaa. Päivä alkaa harjoituksilla kello 11:00 ja kilpailustartit alkaen kello 14:00. Ennakkoliput 20 euroa (+ palvelu- ja tilausmaksut) lippu.fi:stä, kisapäivänä liput portilta käteisellä tai kortilla. Alle 12-vuotiaat lapset sekä pyörätuolia käyttävälle henkilölle avustaja pääsee veloituksetta (pyörätuolilippu). Ostamalla ennakkolipun vältät jonotuksen tapahtumapäivänä. Tervetuloa Teivoon. <br /><br />  Visit event in our website: <a href='https://tapahtumainfo.fi/tapahtuma/2026/06/maaradan-sm-finaali/442357'>Tapahtumainfo.fi</a></body></html>
END:VEVENT
END:VCALENDAR
