BEGIN:VCALENDAR
VERSION:2.0
PRODID:-//tapahtumainfo.fi//NONSGML GALA of STARS//EN
METHOD:REQUEST
BEGIN:VEVENT
UID:20260422T191152-1478745072-tapahtumainfo.fi
DTSTAMP:20260422T191152
DTSTART:20270313T190000Z
DTEND:20270313T020000Z
LOCATION:Finlandia-talo
SUMMARY:GALA of STARS
DESCRIPTION:<html><head></head><body>Valmistaudu unohtumattomaan iltaan.<br><br>Maailman parhaat tanssijat, johtavat tähdet ja solistit sekä poikkeukselliset lahjakkuudet arvostetuimmista kansainvälisistä ryhmistä kokoontuvat samalle lavalle ainutlaatuiseen ja näyttävään gaalaan.<br><br>Henkeäsalpaavia esityksiä, voimakkaita tunteita ja puhtaan kauneuden hetkiä, jotka koskettavat ensimmäisestä sekunnista viimeiseen esiripun laskuun.<br><br>Klassista tai nykytanssia ja voimaa tai runollisuutta.<br>Jokainen teos on kohokohta ja jokainen esiintyminen huippuosaamista.<br><br>Uskomaton esiintyjäkaarti.<br>Yllätyksellinen ohjelma.<br>Yksi ilta, jota et yksinkertaisesti voi jättää väliin.<br><br>Olitpa tanssin ystävä tai etsit vain taianomaista iltaa, <b>GALA of STARS</b> on elämys, joka kannattaa kokea. <br /><br />  Visit event in our website: <a href='https://tapahtumainfo.fi/tapahtuma/2027/03/gala-of-stars/442361'>Tapahtumainfo.fi</a></body></html>
END:VEVENT
END:VCALENDAR
