BEGIN:VCALENDAR
VERSION:2.0
PRODID:-//tapahtumainfo.fi//NONSGML Kaihon Karavaani trio ja Merja Larivaara//EN
METHOD:REQUEST
BEGIN:VEVENT
UID:20260424T170145-154671241-tapahtumainfo.fi
DTSTAMP:20260424T170145
DTSTART:20260507T190000Z
DTEND:20260507T020000Z
LOCATION:Rica Bar
SUMMARY:Kaihon Karavaani trio ja Merja Larivaara
DESCRIPTION:<html><head></head><body> <br /><br />  Visit event in our website: <a href='https://tapahtumainfo.fi/tapahtuma/2026/05/kaihon-karavaani-trio-ja-merja-larivaara/442362'>Tapahtumainfo.fi</a></body></html>
END:VEVENT
END:VCALENDAR
