BEGIN:VCALENDAR
VERSION:2.0
PRODID:-//tapahtumainfo.fi//NONSGML Kuuntele huomista//EN
METHOD:REQUEST
BEGIN:VEVENT
UID:20260424T093416-102545004-tapahtumainfo.fi
DTSTAMP:20260424T093416
DTSTART:20260729T190000Z
DTEND:20260729T020000Z
LOCATION:Ritarihuone / Riddarhuset
SUMMARY:Kuuntele huomista
DESCRIPTION:<html><head></head><body>Kamarikesä 2026 jälleen Helsingin Ritarihuoneella ja Balderin saliisa 29.7.-6.8.2026. Kansainvälinen huippuresitaali, Kamarikesän omat mesenaattitaiteilijat, viini - ja kynttiläkonsertit täyttävät jälleen salit! <br /><br />  Visit event in our website: <a href='https://tapahtumainfo.fi/tapahtuma/2026/07/kuuntele-huomista/442368'>Tapahtumainfo.fi</a></body></html>
END:VEVENT
END:VCALENDAR
