BEGIN:VCALENDAR
VERSION:2.0
PRODID:-//tapahtumainfo.fi//NONSGML Kynttiläkonsertti//EN
METHOD:REQUEST
BEGIN:VEVENT
UID:20260426T023456-1338730682-tapahtumainfo.fi
DTSTAMP:20260426T023456
DTSTART:20260731T210000Z
DTEND:20260731T020000Z
LOCATION:Balderin sali
SUMMARY:Kynttiläkonsertti
DESCRIPTION:<html><head></head><body>Kamarikesä 2026 jälleen Helsingin Ritarihuoneella ja Balderin saliisa 29.7.-6.8.2026. Kansainvälinen huippuresitaali, Kamarikesän omat mesenaattitaiteilijat, viini - ja kynttiläkonsertit täyttävät jälleen salit! <br /><br />  Visit event in our website: <a href='https://tapahtumainfo.fi/tapahtuma/2026/07/kynttilakonsertti/442369'>Tapahtumainfo.fi</a></body></html>
END:VEVENT
END:VCALENDAR
