BEGIN:VCALENDAR
VERSION:2.0
PRODID:-//tapahtumainfo.fi//NONSGML Pikku Prinssi — musiikillinen matka//EN
METHOD:REQUEST
BEGIN:VEVENT
UID:20260425T053012-14112266-tapahtumainfo.fi
DTSTAMP:20260425T053012
DTSTART:20260801T140000Z
DTEND:20260801T020000Z
LOCATION:Balderin sali
SUMMARY:Pikku Prinssi — musiikillinen matka
DESCRIPTION:<html><head></head><body>Kamarikesä 2026 jälleen Helsingin Ritarihuoneella ja Balderin saliisa 29.7.-6.8.2026. Kansainvälinen huippuresitaali, Kamarikesän omat mesenaattitaiteilijat, viini - ja kynttiläkonsertit täyttävät jälleen salit! <br /><br />  Visit event in our website: <a href='https://tapahtumainfo.fi/tapahtuma/2026/08/pikku-prinssi--musiikillinen-matka/442370'>Tapahtumainfo.fi</a></body></html>
END:VEVENT
END:VCALENDAR
