BEGIN:VCALENDAR
VERSION:2.0
PRODID:-//tapahtumainfo.fi//NONSGML Viinilehti X Kamarikesä//EN
METHOD:REQUEST
BEGIN:VEVENT
UID:20260426T063553-1164694490-tapahtumainfo.fi
DTSTAMP:20260426T063553
DTSTART:20260805T190000Z
DTEND:20260805T020000Z
LOCATION:Ritarihuone / Riddarhuset
SUMMARY:Viinilehti X Kamarikesä
DESCRIPTION:<html><head></head><body>Kamarikesä 2026 jälleen Helsingin Ritarihuoneella ja Balderin saliisa 29.7.-6.8.2026. Kansainvälinen huippuresitaali, Kamarikesän omat mesenaattitaiteilijat, viini - ja kynttiläkonsertit täyttävät jälleen salit! <br /><br />  Visit event in our website: <a href='https://tapahtumainfo.fi/tapahtuma/2026/08/viinilehti-x-kamarikesa/442371'>Tapahtumainfo.fi</a></body></html>
END:VEVENT
END:VCALENDAR
