BEGIN:VCALENDAR
VERSION:2.0
PRODID:-//tapahtumainfo.fi//NONSGML KajHa - KaPa//EN
METHOD:REQUEST
BEGIN:VEVENT
UID:20260423T011335-733008212-tapahtumainfo.fi
DTSTAMP:20260423T011335
DTSTART:20260603T190000Z
DTEND:20260603T020000Z
LOCATION:Kajaanin Liikuntapuisto
SUMMARY:KajHa - KaPa
DESCRIPTION:<html><head></head><body><p>  Kajaanin Hakan (<b>KajHa</b>) ja Kajaanin Palloilijoiden (<b>KaPa</b>)   välinen derby on kainuulaisen jalkapallon odotetuin kohtaaminen. Nähdään   Puistossa!<br><br>Lapset alle 12-v ilmaiseksi.</p><p>  Varauduthan esittämään alennukseen oikeuttavan todistuksen portilla   tapahtumaan saapuessasi.</p> <br /><br />  Visit event in our website: <a href='https://tapahtumainfo.fi/tapahtuma/2026/06/kajha-kapa/442376'>Tapahtumainfo.fi</a></body></html>
END:VEVENT
END:VCALENDAR
