BEGIN:VCALENDAR
VERSION:2.0
PRODID:-//tapahtumainfo.fi//NONSGML KajHa - HauPa//EN
METHOD:REQUEST
BEGIN:VEVENT
UID:20260423T103146-1934201489-tapahtumainfo.fi
DTSTAMP:20260423T103146
DTSTART:20260627T170000Z
DTEND:20260627T020000Z
LOCATION:Kajaanin Liikuntapuisto
SUMMARY:KajHa - HauPa
DESCRIPTION:<html><head></head><body><p>  Kajaanin Hakan edustusjoukkueen vieraaksi saapuu HauPa Haukiputaalta.   Nähdään Puistossa – kannustetaan Haka voittoon!<br><br>Lapset   alle 12-v ilmaiseksi</p><p>  Varauduthan esittämään alennukseen oikeuttavan todistuksen portilla   tapahtumaan saapuessasi.</p> <br /><br />  Visit event in our website: <a href='https://tapahtumainfo.fi/tapahtuma/2026/06/kajha-haupa/442377'>Tapahtumainfo.fi</a></body></html>
END:VEVENT
END:VCALENDAR
