BEGIN:VCALENDAR
VERSION:2.0
PRODID:-//tapahtumainfo.fi//NONSGML KajHa - FC Santa Claus//EN
METHOD:REQUEST
BEGIN:VEVENT
UID:20260423T113207-639542558-tapahtumainfo.fi
DTSTAMP:20260423T113207
DTSTART:20260711T170000Z
DTEND:20260711T020000Z
LOCATION:Kajaanin Liikuntapuisto
SUMMARY:KajHa - FC Santa Claus
DESCRIPTION:<html><head></head><body><p>  Kajaanin Hakan edustusjoukkueen vieraaksi saapuu FC Santa Claus   Rovaniemeltä. Nähdään Puistossa – kannustetaan Haka voittoon!<br><br>Lapset   alle 12-v ilmaiseksi</p><p>  Varauduthan esittämään alennukseen oikeuttavan todistuksen portilla   tapahtumaan saapuessasi.</p> <br /><br />  Visit event in our website: <a href='https://tapahtumainfo.fi/tapahtuma/2026/07/kajha-fc-santa-claus/442378'>Tapahtumainfo.fi</a></body></html>
END:VEVENT
END:VCALENDAR
