BEGIN:VCALENDAR
VERSION:2.0
PRODID:-//tapahtumainfo.fi//NONSGML KajHa - RoPo//EN
METHOD:REQUEST
BEGIN:VEVENT
UID:20260424T023735-91225531-tapahtumainfo.fi
DTSTAMP:20260424T023735
DTSTART:20260912T170000Z
DTEND:20260912T020000Z
LOCATION:Kajaanin Liikuntapuisto
SUMMARY:KajHa - RoPo
DESCRIPTION:<html><head></head><body><p>  Kajaanin Hakan edustusjoukkueen vieraaksi saapuu RoPo Rovaniemeltä.   Nähdään Puistossa – kannustetaan Haka voittoon!<br><br>Lapset   alle 12-v ilmaiseksi</p><p>  Varauduthan esittämään alennukseen oikeuttavan todistuksen portilla   tapahtumaan saapuessasi.</p> <br /><br />  Visit event in our website: <a href='https://tapahtumainfo.fi/tapahtuma/2026/09/kajha-ropo/442381'>Tapahtumainfo.fi</a></body></html>
END:VEVENT
END:VCALENDAR
