BEGIN:VCALENDAR
VERSION:2.0
PRODID:-//tapahtumainfo.fi//NONSGML KajHa -KePS//EN
METHOD:REQUEST
BEGIN:VEVENT
UID:20260424T170245-778147657-tapahtumainfo.fi
DTSTAMP:20260424T170245
DTSTART:20260926T170000Z
DTEND:20260926T020000Z
LOCATION:Kajaanin Liikuntapuisto
SUMMARY:KajHa -KePS
DESCRIPTION:<html><head></head><body><p>  Kajaanin Hakan edustusjoukkueen vieraaksi saapuu KePS Kemistä. Nähdään   Puistossa – kannustetaan Haka voittoon!<br><br>Lapset alle 12-v   ilmaiseksi</p><p>  Varauduthan esittämään alennukseen oikeuttavan todistuksen portilla   tapahtumaan saapuessasi.</p> <br /><br />  Visit event in our website: <a href='https://tapahtumainfo.fi/tapahtuma/2026/09/kajha-keps/442382'>Tapahtumainfo.fi</a></body></html>
END:VEVENT
END:VCALENDAR
