BEGIN:VCALENDAR
VERSION:2.0
PRODID:-//tapahtumainfo.fi//NONSGML Yöllisen koiran merkillinen tapaus//EN
METHOD:REQUEST
BEGIN:VEVENT
UID:20260421T032332-1241545169-tapahtumainfo.fi
DTSTAMP:20260421T032332
DTSTART:20261125T130000Z
DTEND:20261125T020000Z
LOCATION:Joensuun kaupunginteatteri
SUMMARY:Yöllisen koiran merkillinen tapaus
DESCRIPTION:<html><head></head><body><b>Yöllisen koiran merkillinen tapaus<br>- erään Christopherin sankarillinen retki Lontooseen ja takaisin</b><br><br>Christopher Boone, 15 vuotta, on poikkeuksellisen lahjakas nuori. Hän tietää lähes kaiken<br>ulkoavaruudesta, luettelee alkuluvut lukuun 7057 asti, karttaa keltaista väriä ja tungoksia eikä siedä<br>kosketusta. Christopher ja muut ihmiset ymmärtävät helposti toisensa väärin, mistä seuraa sekä<br>ongelmia että koomisia tilanteita. Kun naapurin koira löytyy yöllä kuolleena, päättää Christopher<br>selvittää tapauksen, rohkeasti ja itsenäisesti. Tutkimuksesta kasvaa odottamaton seikkailu<br>ylitsepääsemättömiltä tuntuvine haasteineen ja totuuksineen, jotka mullistavat hänen elämänsä.<br>Näytelmän ytimessä on kasvutarina, joka syvästi inhimillisenä ja toiveikkaana kutsuu katsojan<br>kokemaan todellisuutta hieman uudenlaisesta näkökulmasta.<br><br>Britannian arvostetuimpia Olivier –palkintoja voittanut omaperäinen näytelmä vie maailmaan, jossa<br>logiikka luo turvaa, rehellisyys on ehdotonta ja tunteet joskus hämmentävän vaikeita tulkita.<br>Kekseliäässä näyttämökerronnassa rooleja vaihdetaan lennossa, ja kiitosta on saanut myös<br>neuroepätyypillisen kokemusmaailman avaaminen puhuttelevasti ja ymmärtäväisin katsein.<br><br><b>Rooleissa</b> Mikko Liimatainen, Jaakko Tohkanen, Petteri Rantatalo, Otto Henriksson, Markku Maasilta,<br>Regina Launivuo, Suvi-Maaria Virta ja Minna Maaria Virtanen<br><b>Alkuperäisteos</b> The curious incident of the dog in the night-time by Mark Haddon<br><b>Dramatisointi</b> Simon Stephens<br><b>Suomennos </b>Aino Piirola<br><b>Ohjaus</b> Tuomo Aitta<br><b>Ensi-ilta</b> 26.9.2026<br><b>Esitysoikeudet</b> Agency North Oy/Colombine Teaterförlag<br><br>Näytelmä esitetään Warner Bros. Entertainmentin luvalla.<br><br>Sisältövaroitus voimakas kielenkäyttö ja väkivalta<br><br>PIENI NÄYTTÄMÖ<br>KESTOARVIO noin 2 t 45 min, sisältäen väliajan<br>LIPUT alkaen 29 e perushinta 27 e eläkeläinen 16 e lapsi, opiskelija, työtön, varushenkilö ja<br>siviilipalvelusvelvollinen<br>Yksityisnäytäntö teatterissa 950 e (max 70 henkilöä, 14 e/henkilö)<br><br><b>Taiteilijatapaaminen</b> la 26.9. klo 16.30–17.00 Tornikabinetissa näytelmäkirjailija Pirkko Kurikan<br>haastateltavana ohjaaja Tuomo Aitta ja vieraileva lavastus- ja pukusuunnittelija Anne Karttunen<br><br>Esitys on mukana valtakunnallisessa 8-luokkalaisten Taidetestaajat-hankkeessa syksyllä 2026 ja keväällä 2027. Lisätiedot: <a href="www.taidetestaajat.fi" cr="true">www.taidetestaajat.fi</a> <br /><br />  Visit event in our website: <a href='https://tapahtumainfo.fi/tapahtuma/2026/11/yollisen-koiran-merkillinen-tapaus/442395'>Tapahtumainfo.fi</a></body></html>
END:VEVENT
END:VCALENDAR
