BEGIN:VCALENDAR
VERSION:2.0
PRODID:-//tapahtumainfo.fi//NONSGML Kitaraklubilla Peter Lerche//EN
METHOD:REQUEST
BEGIN:VEVENT
UID:20260423T083239-1206678325-tapahtumainfo.fi
DTSTAMP:20260423T083239
DTSTART:20260507T190000Z
DTEND:20260507T020000Z
LOCATION:Kulttuurimeijeri
SUMMARY:Kitaraklubilla Peter Lerche
DESCRIPTION:<html><head></head><body><p>Peter Lerche soolokonsertti</p><p>Kitaristi Peter Lerche on kulkenut pitkän ja vaikuttavan polun muusikkona. Eikä vähiten siksi, että hän oli vuosikymmenten ajan Vesa-Matti Loirin lähin työtoveri. Monissa maailmankolkissa pienestä pitäen eläneen Lerchen soitossa kaikki hänen kokemansa kulttuurit, sävellykset ja vaikutteet kohtaavat elämänkokemuksen ja vapaan mielikuvituksen. </p><p>Liput 10€<br>Ennakkoon <b>lippu.fi</b> tai Kirjakauppa Kipa Mäntsälä<br>Lippuja myös ovelta<br>Tervetuloa Mäntsälän Kulttuurimeijerille!</p> <br /><br />  Visit event in our website: <a href='https://tapahtumainfo.fi/tapahtuma/2026/05/kitaraklubilla-peter-lerche/442399'>Tapahtumainfo.fi</a></body></html>
END:VEVENT
END:VCALENDAR
