BEGIN:VCALENDAR
VERSION:2.0
PRODID:-//tapahtumainfo.fi//NONSGML Dolly Style//EN
METHOD:REQUEST
BEGIN:VEVENT
UID:20260426T050950-448118687-tapahtumainfo.fi
DTSTAMP:20260426T050950
DTSTART:20260920T150000Z
DTEND:20260920T020000Z
LOCATION:Savoy-teatteri
SUMMARY:Dolly Style
DESCRIPTION:<html><head></head><body> <br /><br />  Visit event in our website: <a href='https://tapahtumainfo.fi/tapahtuma/2026/09/dolly-style/442402'>Tapahtumainfo.fi</a></body></html>
END:VEVENT
END:VCALENDAR
