BEGIN:VCALENDAR
VERSION:2.0
PRODID:-//tapahtumainfo.fi//NONSGML Dolly Style//EN
METHOD:REQUEST
BEGIN:VEVENT
UID:20260425T134427-333680746-tapahtumainfo.fi
DTSTAMP:20260425T134427
DTSTART:20260925T180000Z
DTEND:20260925T020000Z
LOCATION:Tampere-talo, Pieni sali
SUMMARY:Dolly Style
DESCRIPTION:<html><head></head><body> <br /><br />  Visit event in our website: <a href='https://tapahtumainfo.fi/tapahtuma/2026/09/dolly-style/442403'>Tapahtumainfo.fi</a></body></html>
END:VEVENT
END:VCALENDAR
