BEGIN:VCALENDAR
VERSION:2.0
PRODID:-//tapahtumainfo.fi//NONSGML Joulushow//EN
METHOD:REQUEST
BEGIN:VEVENT
UID:20260425T145206-1184690582-tapahtumainfo.fi
DTSTAMP:20260425T145206
DTSTART:20261128T130000Z
DTEND:20261128T020000Z
LOCATION:Kouvolan Teatteri, Päänäyttämö
SUMMARY:Joulushow
DESCRIPTION:<html><head></head><body> <br /><br />  Visit event in our website: <a href='https://tapahtumainfo.fi/tapahtuma/2026/11/joulushow/442416'>Tapahtumainfo.fi</a></body></html>
END:VEVENT
END:VCALENDAR
