BEGIN:VCALENDAR
VERSION:2.0
PRODID:-//tapahtumainfo.fi//NONSGML Joulushow//EN
METHOD:REQUEST
BEGIN:VEVENT
UID:20260424T194552-1050258252-tapahtumainfo.fi
DTSTAMP:20260424T194552
DTSTART:20261205T180000Z
DTEND:20261205T020000Z
LOCATION:Kouvolan Teatteri, Päänäyttämö
SUMMARY:Joulushow
DESCRIPTION:<html><head></head><body> <br /><br />  Visit event in our website: <a href='https://tapahtumainfo.fi/tapahtuma/2026/12/joulushow/442421'>Tapahtumainfo.fi</a></body></html>
END:VEVENT
END:VCALENDAR
