BEGIN:VCALENDAR
VERSION:2.0
PRODID:-//tapahtumainfo.fi//NONSGML Kesäyön uni//EN
METHOD:REQUEST
BEGIN:VEVENT
UID:20260421T172544-1790009132-tapahtumainfo.fi
DTSTAMP:20260421T172544
DTSTART:20260725T160000Z
DTEND:20260725T020000Z
LOCATION:Haminan teatterin kesäareena
SUMMARY:Kesäyön uni
DESCRIPTION:<html><head></head><body>Kesäyön uni on William Shakespearen klassikkokomedia, jonka ohjaajat Arminen ja Lammi ovat höystäneet musiikilla ja päivittäneet tähän päivään. Näytelmää tähdittää paikallinen ammattinäyttelijä Antti Peltola ja yli 30 upeaa harrastajanäyttelijää. Nimensä mukaisesti näytelmä vie katsojan unenomaiseen sekä humoristiseenkin mielikuvitusmaailmaan, jossa seikkailee muun muassa pähkähullu käsityöläisjoukkio ja rakkaudessaan törmäileviä nuoria.<br><br>Ohjaajat Eveliina Arminen ja Mari Lammi<br><br>Kesäteatteri (Roopertinkatu 8, 49400 Hamina [Hämeenlinnan bastioni])<br>Kahvio (anniskeluoikeudet)<br><br>Lippuvaraukset ja ryhmävaraukset: varaukset@haminanteatteri.fi<br><br>Esitykset:<br>ke 24.6. klo 18, ensi-ilta<br>su 28.6. klo 18<br>ke 1.7. klo 18<br>pe 3.7. klo 18<br>la 4.7. klo 18<br>ke 8.7. klo 18<br>pe 10.7. klo 18<br>la 11.7. klo 18<br>ke 15.7. klo 18<br>to 16.7. klo 18<br>su 19.7. klo 16<br>ke 22.7. klo 18<br>pe 24.7. klo 18<br>la 25.7. klo 16<br> <br /><br />  Visit event in our website: <a href='https://tapahtumainfo.fi/tapahtuma/2026/07/kesayon-uni/442443'>Tapahtumainfo.fi</a></body></html>
END:VEVENT
END:VCALENDAR
