BEGIN:VCALENDAR
VERSION:2.0
PRODID:-//tapahtumainfo.fi//NONSGML Ho, Ho, Ho – It’s Divet Show! K-18//EN
METHOD:REQUEST
BEGIN:VEVENT
UID:20260425T175011-331409875-tapahtumainfo.fi
DTSTAMP:20260425T175011
DTSTART:20261218T190000Z
DTEND:20261218T020000Z
LOCATION:Pohjankartanon sali
SUMMARY:Ho, Ho, Ho – It’s Divet Show! K-18
DESCRIPTION:<html><head></head><body>Ho, Ho, Ho – parhaat pikkujoulubileet Divetin tahtiin!<br><br>Maailmallakin mainetta niittänyt, Divet Show by Marko Vainio, tuo lavalle jälleen hengästyttävän määrän hahmoja, hittejä, tanssia, imitaatioita ja vaatevaihtoja. Illan aikana nähdään enemmän diivoja kuin missään muissa pikkujouluissa – ja kaikki vieläpä eturivipaikalla. Kun yksi superstara poistuu, seuraava on jo korkokengissä kulman takana.<br><br>Luvassa on kansainvälisiä supertähtiä Mariah Careysta Adeleen, kotimaisia kuningattaria Maija Vilkkumaasta Erika Vikmaniin, tämän hetken kuumimpia nimiä, joita ilman joulu ei tunnu joululta. Tämä ei ole pelkkä drag show vaan myös perheen karvaisimmillekin löytyy fanitettavaa Takatukkaa, Mattia ja Teppoa, Kajn koplaa, Windows95mania, Käärijää ja Freddie Mercuria.<br><br>Tämä kuumilla tanssijoilla kuorrutettu show on pikkujoulujen nopein tähtikimara, kovin hittikattaus ja hauskin viihdepläjäys, josta puhutaan vielä uutena vuotenakin.<br><br>Ho, Ho, Ho – It’s Divet Show!<br><br>Kesto n. 2,5h väliaikoineen<br><br> <br /><br />  Visit event in our website: <a href='https://tapahtumainfo.fi/tapahtuma/2026/12/ho-ho-ho--it-s-divet-show-k-18/442451'>Tapahtumainfo.fi</a></body></html>
END:VEVENT
END:VCALENDAR
