BEGIN:VCALENDAR
VERSION:2.0
PRODID:-//tapahtumainfo.fi//NONSGML Sellosali: Tomi Salesvuo East Funk Attack//EN
METHOD:REQUEST
BEGIN:VEVENT
UID:20260423T131004-442492449-tapahtumainfo.fi
DTSTAMP:20260423T131004
DTSTART:20260916T190000Z
DTEND:20260916T020000Z
LOCATION:Sellosali, Leppävaara
SUMMARY:Sellosali: Tomi Salesvuo East Funk Attack
DESCRIPTION:<html><head></head><body>Rumpali <b>Tomi Salesvuon East Funk Attack</b> on neljä omaa albumia julkaissut funk-paahtimo Helsingistä.<br><br>Periksiantamattoman juureva Rock-henkinen iskuryhmä on soittanut niin kotimaan kuin ulkomaidenkin klubeilla ja tehnyt keikkoja niin konserttisaleissa kuin kotimaamme festareillakin.<br><br>Sellosalin lavalle nousee jälleen East Funk Attack bändin kanssa erityiseen ystävien iltaan musiikin monitoimimies, laulaja Sami Pitkämö! Ystävysten ilta irti -teeman keikat saivat mainion suosion pari vuotta sitten niin klubeilla kuin festivaaleillakin eri puolilla Suomea ja teema saa nyt jatkoa! Laulaja-kitaristi Sami Pitkämenn suuri yleisö tuntee mm. Tanssii Tähtien kanssa TV ohjelmasta. <br /><br />  Visit event in our website: <a href='https://tapahtumainfo.fi/tapahtuma/2026/09/sellosali-tomi-salesvuo-east-funk-attack/442452'>Tapahtumainfo.fi</a></body></html>
END:VEVENT
END:VCALENDAR
