BEGIN:VCALENDAR
VERSION:2.0
PRODID:-//tapahtumainfo.fi//NONSGML CLUB FOR FIVE - KESÄKONSERTTI//EN
METHOD:REQUEST
BEGIN:VEVENT
UID:20260421T064558-687254105-tapahtumainfo.fi
DTSTAMP:20260421T064558
DTSTART:20260610T180000Z
DTEND:20260610T020000Z
LOCATION:Kirkkonummen kirkko / Pyhän Mikaelin kirkko
SUMMARY:CLUB FOR FIVE - KESÄKONSERTTI
DESCRIPTION:<html><head></head><body><b>Club For Fiven</b> kesäkonsertissa hyvä musiikki, lämmin tunnelma ja pilke silmäkulmassa kulkevat sulassa sovussa.Luvassa on koskettavaa tulkintaa, oivaltavaa huumoria, suvereenia osaamista ja valloittavia soolosuorituksia tulviva kesäilta. Viiden loistavan laulajan voimin syntyy ilta, jossa tuttu ja yllättävä kohtaavat raikkaalla, hurmaavalla tavalla.<br><br>Tervetuloa nauttimaan kesästä, laulusta ja tunnelmasta, joka jättää hymyn huulille vielä kotimatkallakin. <br /><br />  Visit event in our website: <a href='https://tapahtumainfo.fi/tapahtuma/2026/06/club-for-five-kesakonsertti/442457'>Tapahtumainfo.fi</a></body></html>
END:VEVENT
END:VCALENDAR
