BEGIN:VCALENDAR
VERSION:2.0
PRODID:-//tapahtumainfo.fi//NONSGML Maukan ja Väykän höntti päivä//EN
METHOD:REQUEST
BEGIN:VEVENT
UID:20260421T062323-2041596570-tapahtumainfo.fi
DTSTAMP:20260421T062323
DTSTART:20260926T160000Z
DTEND:20260926T020000Z
LOCATION:Päänäyttämö, Hämeenlinnan teatteri
SUMMARY:Maukan ja Väykän höntti päivä
DESCRIPTION:<html><head></head><body>Maukan ja Väykän höntti päivä.<br>Ajankohta: lauantai 26.9. klo 13 & 16<br>Paikka: Hämeenlinnan Teatterin päänäyttämö<br>Liput: Lapset 14 € / Aikuiset 18 € / Avustaja 0 €<br>Ikäsuositus: 4+<br>Kesto: 40min (ei väliaikaa)<br> <br>Maukka ja Väykkä uudessa seikkailussa!<br><br>Maukan ja Väykän päivä muuttuu jännittäväksi, kun Väykkä yllättäen joutuu kohtaamaan<br>ylitsepääsemättömän pelontunteen. Maukka virittyy tapansa mukaan heti ääriasentoon<br>yrittäessään keksiä ratkaisua: Kärpäsestä tulee härkänen ja hyttysestä kissa pistoksissa.<br>Vain aito ystävällisyys ja toisen kuunteleminen antavat kaveruksille lopulta mahdollisuuden selvitä<br>syntyneestä kiperästä tilanteesta. Timo Parvelan tarinan lämmin huumori ja Iiro Rantalan<br>svengaava musiikki kuljettavat Maukan ja Väykän höntin päivän läpi riemulla ja rohkeudella.<br><br>”Timo Parvelan kirjoittama näytelmä tarjosi takuuvarmaa lastenteatteria, joka pohditutti juuri<br>sopivasti ja nauratti sitäkin enemmän. Pimeän talven keskellä ilahdutti sekin, että esityksen<br>joukkoon oli ripoteltu huumoria myös isommille katsojille. Kapsäkistä sai aikuinenkin jälleen<br>poistua posket hymyilystä hellinä.”<br>– Leila Saarivirta / Pihin naisen elämää -blogi<br><br>Maukan ja Väykän höntti päivä on tämän työryhmän kolmas Maukka ja Väykkä -musiikkinäytelmä.<br>Kirjailija Timo Parvelan erityistaito on kirjoittaa tarinoihin monia koskettavia ja humoristisia tasoja,<br>jolloin esitykset puhuttelevat kaikenikäisiä katsojia. Iiro Rantalan sävellysten monipuolisuus tukee<br>hyvin tarinoiden viehättävää rajattomuutta. Pitkä yhteinen Maukka ja Väykkä -matka näkyy ja<br>tuntuu saumattomana yhteistyönä lavalla sekä esiintyjien ja yleisön välillä.<br> <br>Rooleissa: Paavo Kerosuo ja Lotta Kuusisto<br>Käsikirjoitus: Timo Parvela<br>Sävellykset: Iiro Rantala<br>Puvustus: Riitta Röpelinen<br>Lavastus: työryhmä<br>Ohjaus: Paavo Kerosuo ja Lotta Kuusisto <br /><br />  Visit event in our website: <a href='https://tapahtumainfo.fi/tapahtuma/2026/09/maukan-ja-vaykan-hontti-paiva/442461'>Tapahtumainfo.fi</a></body></html>
END:VEVENT
END:VCALENDAR
